2.438400000000
0.000000000000
0.000000000000
-2.438400000000
431010.483596998380
5067195.311797509900
