2.438400
0.000000
0.000000
-2.438400
409035.805026
4942508.182795
