2.438400
0.000000
0.000000
-2.438400
498531.628127
4886315.812226
