2.438400
0.000000
0.000000
-2.438400
478674.695083
4858618.247095
