2.438400
0.000000
0.000000
-2.438400
498921.339767
4872421.814202
