2.438400
0.000000
0.000000
-2.438400
478868.114281
4872462.448286
