2.438400
0.000000
0.000000
-2.438400
488970.671241
4886324.923840
