2.438400
0.000000
0.000000
-2.438400
498843.572224
4858538.164761
