2.438400
0.000000
0.000000
-2.438400
488649.677731
4872370.346188
