2.438400
0.000000
0.000000
-2.438400
488928.641698
4858516.489415
