2.438400
0.000000
0.000000
-2.438400
408823.601175
4928617.993227
