2.438400
0.000000
0.000000
-2.438400
459193.490080
4941996.170092
